BEGIN:VCALENDAR
VERSION:2.0
PRODID:-//https://redwoodlodge35.com///NONSGML kigkonsult.se iCalcreator 2.10.15//
METHOD:PUBLISH
BEGIN:VEVENT
UID:20260421T160452UTC-0024afgOgP@https://redwoodlodge35.com/
DTSTAMP:20260421T160452Z
DESCRIPTION: https://redwoodlodge35.com/calendar/event/38-special-communica
 tion-ea-degree
DTSTART:20211117T190000Z
DTEND:20211117T210000Z
LOCATION:Redwood Lodge (222 Taunton Avenue\, East Providence\, RI 02914\, U
 SA)
SUMMARY:Special Communication EA Degree
URL:https://redwoodlodge35.com/calendar/event/38-special-communication-ea-d
 egree
END:VEVENT
END:VCALENDAR
